BEGIN:VCALENDAR
VERSION:2.0
PRODID:-//Bolidens Golfklubb - ECPv6.15.18//NONSGML v1.0//EN
CALSCALE:GREGORIAN
METHOD:PUBLISH
X-ORIGINAL-URL:https://bolidensgolfklubb.se
X-WR-CALDESC:Händelser för Bolidens Golfklubb
REFRESH-INTERVAL;VALUE=DURATION:PT1H
X-Robots-Tag:noindex
X-PUBLISHED-TTL:PT1H
BEGIN:VTIMEZONE
TZID:Europe/Stockholm
BEGIN:DAYLIGHT
TZOFFSETFROM:+0100
TZOFFSETTO:+0200
TZNAME:CEST
DTSTART:20250330T010000
END:DAYLIGHT
BEGIN:STANDARD
TZOFFSETFROM:+0200
TZOFFSETTO:+0100
TZNAME:CET
DTSTART:20251026T010000
END:STANDARD
BEGIN:DAYLIGHT
TZOFFSETFROM:+0100
TZOFFSETTO:+0200
TZNAME:CEST
DTSTART:20260329T010000
END:DAYLIGHT
BEGIN:STANDARD
TZOFFSETFROM:+0200
TZOFFSETTO:+0100
TZNAME:CET
DTSTART:20261025T010000
END:STANDARD
BEGIN:DAYLIGHT
TZOFFSETFROM:+0100
TZOFFSETTO:+0200
TZNAME:CEST
DTSTART:20270328T010000
END:DAYLIGHT
BEGIN:STANDARD
TZOFFSETFROM:+0200
TZOFFSETTO:+0100
TZNAME:CET
DTSTART:20271031T010000
END:STANDARD
END:VTIMEZONE
BEGIN:VEVENT
DTSTART;TZID=Europe/Stockholm:20260118T160000
DTEND;TZID=Europe/Stockholm:20260118T180000
DTSTAMP:20260420T034902
CREATED:20260115T103359Z
LAST-MODIFIED:20260115T103359Z
UID:1109-1768752000-1768759200@bolidensgolfklubb.se
SUMMARY:Styrelsemöte och upptakt för verksamhetsplanering
DESCRIPTION:Plats: Folkets Hus Boliden
URL:https://bolidensgolfklubb.se/evenemang/styrelsemote-och-upptakt-for-verksamhetsplanering/
END:VEVENT
END:VCALENDAR