BEGIN:VCALENDAR
VERSION:2.0
PRODID:-//Bolidens Golfklubb - ECPv6.15.18//NONSGML v1.0//EN
CALSCALE:GREGORIAN
METHOD:PUBLISH
X-WR-CALNAME:Bolidens Golfklubb
X-ORIGINAL-URL:https://bolidensgolfklubb.se
X-WR-CALDESC:Händelser för Bolidens Golfklubb
REFRESH-INTERVAL;VALUE=DURATION:PT1H
X-Robots-Tag:noindex
X-PUBLISHED-TTL:PT1H
BEGIN:VTIMEZONE
TZID:Europe/Stockholm
BEGIN:DAYLIGHT
TZOFFSETFROM:+0100
TZOFFSETTO:+0200
TZNAME:CEST
DTSTART:20250330T010000
END:DAYLIGHT
BEGIN:STANDARD
TZOFFSETFROM:+0200
TZOFFSETTO:+0100
TZNAME:CET
DTSTART:20251026T010000
END:STANDARD
BEGIN:DAYLIGHT
TZOFFSETFROM:+0100
TZOFFSETTO:+0200
TZNAME:CEST
DTSTART:20260329T010000
END:DAYLIGHT
BEGIN:STANDARD
TZOFFSETFROM:+0200
TZOFFSETTO:+0100
TZNAME:CET
DTSTART:20261025T010000
END:STANDARD
BEGIN:DAYLIGHT
TZOFFSETFROM:+0100
TZOFFSETTO:+0200
TZNAME:CEST
DTSTART:20270328T010000
END:DAYLIGHT
BEGIN:STANDARD
TZOFFSETFROM:+0200
TZOFFSETTO:+0100
TZNAME:CET
DTSTART:20271031T010000
END:STANDARD
END:VTIMEZONE
BEGIN:VEVENT
DTSTART;TZID=Europe/Stockholm:20260308T160000
DTEND;TZID=Europe/Stockholm:20260308T173000
DTSTAMP:20260420T005628
CREATED:20260303T162754Z
LAST-MODIFIED:20260303T162754Z
UID:1163-1772985600-1772991000@bolidensgolfklubb.se
SUMMARY:Styrelsemöte
DESCRIPTION:
URL:https://bolidensgolfklubb.se/evenemang/styrelsemote-3/
END:VEVENT
BEGIN:VEVENT
DTSTART;TZID=Europe/Stockholm:20260315T160000
DTEND;TZID=Europe/Stockholm:20260315T170000
DTSTAMP:20260420T005628
CREATED:20260303T162852Z
LAST-MODIFIED:20260303T162852Z
UID:1165-1773590400-1773594000@bolidensgolfklubb.se
SUMMARY:Årsmöte
DESCRIPTION:Folkets Hus Boliden
URL:https://bolidensgolfklubb.se/evenemang/arsmote-2/
END:VEVENT
END:VCALENDAR